BEGIN:VCALENDAR
VERSION:2.0
PRODID:-//eventon.com NONSGML v1.0//EN
BEGIN:VEVENT
UID:69e7da9f4012d
DTSTAMP:20260421T201423
DTSTART:20190520T000000Z
DTEND:20190520T235900Z
LOCATION:
SUMMARY:JAZZ Confluences – trei lumi intr-un univers pentru iubitorii de Jazz
DESCRIPTION: Două piane\,  patru m&acirc;ini\,  un saxofon bariton și infinite explorări de Jazz modern vor compune o seară de excepție\,  pe scena sălii Elvire Popesco\,  luni\,  20 mai\,  ora 19:30.Institutul francez din București organizează Jazz Confluences\,  un concert de jazz contemporan atipic. Cu această ocazie\,  Lucian Ban\,  celebru pianist de origine[..]
END:VEVENT
END:VCALENDAR