BEGIN:VCALENDAR
VERSION:2.0
PRODID:-//eventon.com NONSGML v1.0//EN
BEGIN:VEVENT
UID:69e8b769743d8
DTSTAMP:20260422T115625
DTSTART:20190621T000000Z
DTEND:20190623T235900Z
LOCATION:
SUMMARY:TARG DE ANTICHITATI
DESCRIPTION: &Icirc;n miez de vară\,  &icirc;n preajma S&acirc;nzienelor\,  peste 40 de colecționari din toată țara vin la T&acirc;rgul de antichități de la Muzeul Național al Țăranului Rom&acirc;n\,  cu lucruri frumoase\,  nelipsite &icirc;nainte vreme din gospodăria țărănească sau de la oraș. &Icirc;ntre 21 și 23 iunie 2019\,  de la orele 10 dimineața[..]
END:VEVENT
END:VCALENDAR