BEGIN:VCALENDAR
VERSION:2.0
PRODID:-//eventon.com NONSGML v1.0//EN
BEGIN:VEVENT
UID:69e4f37c2877d
DTSTAMP:20260419T152340
DTSTART:20191221T000000Z
DTEND:20191222T235900Z
LOCATION:
SUMMARY:Kids Fashion Week 2019
DESCRIPTION: Asociația Culturală Dominium\,  &icirc;n colaborare cu Avenue 48\,  vă invită la cea de-a patra ediţie a Festivalului de modă pentru copii și adolescenți\,  Kids Fashion Week\,  care se va desfăşura &icirc;n perioada 21 &ndash; 22 decembrie 2019\,  &icirc;ncep&acirc;nd cu orele 19:00\,  &icirc;n cadrul Avenue 48 &ndash; cea mai mare sală[..]
END:VEVENT
END:VCALENDAR