BEGIN:VCALENDAR
VERSION:2.0
PRODID:-//eventon.com NONSGML v1.0//EN
BEGIN:VEVENT
UID:69e66f3823262
DTSTAMP:20260420T182352
DTSTART:20191215T000000Z
DTEND:20191215T235900Z
LOCATION:
SUMMARY:Phoenix la București
DESCRIPTION: Emblematica formație PHOENIX va susține un concert special la&nbsp;Arenele Romane din capitală\,  duminică 15 decembrie 2019. &Icirc;n cadrul acestui eveniment Nicu Covaci și compania va c&acirc;nta alături de c&acirc;țiva invitați speciali.Prima formație confirmată a fost&nbsp;Riot Monk&nbsp;din Baia Mare\,  iar&nbsp;celelalte două sunt&nbsp;White Coast Rebels&nbsp;și&nbsp;Latvian Blues Band.&nbsp;Biletele se pot achiziționa exclusiv de[..]
END:VEVENT
END:VCALENDAR