BEGIN:VCALENDAR
VERSION:2.0
PRODID:-//eventon.com NONSGML v1.0//EN
BEGIN:VEVENT
UID:69eb501607e66
DTSTAMP:20260424T111222
DTSTART:20191202T000000Z
DTEND:20191206T235900Z
LOCATION:
SUMMARY:Diversity Week 2019
DESCRIPTION: &Icirc;n perioada 2-6 Decembrie 2019\,  British Council Rom&acirc;nia organizează ediția cu numărul 10 a Diversity Week. Sub umbrela diversității\,  a egalității de șanse și a incluziunii\,  British Council propune o serie de activități și proiecte adresate at&acirc;t publicului larg\,  c&acirc;t și angajaților instituției\,  &icirc;n parteneriat cu asociații precum Supereroi printre[..]
END:VEVENT
END:VCALENDAR